BEGIN:VCALENDAR
VERSION:2.0
PRODID:-//Elmaro Vineyard - ECPv6.15.20//NONSGML v1.0//EN
CALSCALE:GREGORIAN
METHOD:PUBLISH
X-WR-CALNAME:Elmaro Vineyard
X-ORIGINAL-URL:https://elmarovineyard.com
X-WR-CALDESC:Events for Elmaro Vineyard
REFRESH-INTERVAL;VALUE=DURATION:PT1H
X-Robots-Tag:noindex
X-PUBLISHED-TTL:PT1H
BEGIN:VTIMEZONE
TZID:UTC
BEGIN:STANDARD
TZOFFSETFROM:+0000
TZOFFSETTO:+0000
TZNAME:UTC
DTSTART:20220101T000000
END:STANDARD
END:VTIMEZONE
BEGIN:VEVENT
DTSTART;TZID=UTC:20230219T130000
DTEND;TZID=UTC:20230219T160000
DTSTAMP:20260422T233830
CREATED:20230103T222732Z
LAST-MODIFIED:20230103T222732Z
UID:3673-1676811600-1676822400@elmarovineyard.com
SUMMARY:Music by The Jazz Foundation
DESCRIPTION:The jazz foundation is group of professional jazz musicians from La Crosse Wisconsin dedicated to performing classic jazz. \n Our mission is to perform the most well know classic jazz music. We play instrumental and vocal jazz from jazz legends like Miles Davis\, Count Basie\, Antonio Carlos Jobim\, Duke Ellington\, Nat King Cole\, Frank Sinatra\, Loui Armstrong and many more.  \n You can check us out on Facebook at: \nhttps://www.facebook.com/thejazzfoundation.net
URL:https://elmarovineyard.com/event/music-by-the-jazz-foundation/
ATTACH;FMTTYPE=image/jpeg:https://elmarovineyard.com/wp-content/uploads/2023/01/The-Jazz-Foundation.jpg
END:VEVENT
END:VCALENDAR