BEGIN:VCALENDAR
VERSION:2.0
PRODID:-//Elmaro Vineyard - ECPv6.15.20//NONSGML v1.0//EN
CALSCALE:GREGORIAN
METHOD:PUBLISH
X-WR-CALNAME:Elmaro Vineyard
X-ORIGINAL-URL:https://elmarovineyard.com
X-WR-CALDESC:Events for Elmaro Vineyard
REFRESH-INTERVAL;VALUE=DURATION:PT1H
X-Robots-Tag:noindex
X-PUBLISHED-TTL:PT1H
BEGIN:VTIMEZONE
TZID:UTC
BEGIN:STANDARD
TZOFFSETFROM:+0000
TZOFFSETTO:+0000
TZNAME:UTC
DTSTART:20220101T000000
END:STANDARD
END:VTIMEZONE
BEGIN:VEVENT
DTSTART;TZID=UTC:20230216T110000
DTEND;TZID=UTC:20230216T120000
DTSTAMP:20260422T101201
CREATED:20221206T181420Z
LAST-MODIFIED:20230215T153529Z
UID:3659-1676545200-1676548800@elmarovineyard.com
SUMMARY:Canceled-Adaptive Yoga
DESCRIPTION:Yoga is canceled on Thursday\, February 16th. We will see you all again on February 23rd.\n\n\n~Namaste
URL:https://elmarovineyard.com/event/adaptive-yoga-8-2023-02-16/
ATTACH;FMTTYPE=image/jpeg:https://elmarovineyard.com/wp-content/uploads/2022/12/Yoga-Canceled-1.jpg
END:VEVENT
END:VCALENDAR