BEGIN:VCALENDAR
VERSION:2.0
PRODID:-//Elmaro Vineyard - ECPv6.15.20//NONSGML v1.0//EN
CALSCALE:GREGORIAN
METHOD:PUBLISH
X-ORIGINAL-URL:https://elmarovineyard.com
X-WR-CALDESC:Events for Elmaro Vineyard
REFRESH-INTERVAL;VALUE=DURATION:PT1H
X-Robots-Tag:noindex
X-PUBLISHED-TTL:PT1H
BEGIN:VTIMEZONE
TZID:UTC
BEGIN:STANDARD
TZOFFSETFROM:+0000
TZOFFSETTO:+0000
TZNAME:UTC
DTSTART:20220101T000000
END:STANDARD
END:VTIMEZONE
BEGIN:VEVENT
DTSTART;TZID=UTC:20230212T130000
DTEND;TZID=UTC:20230212T160000
DTSTAMP:20260422T055233
CREATED:20230103T220721Z
LAST-MODIFIED:20230103T220721Z
UID:3667-1676206800-1676217600@elmarovineyard.com
SUMMARY:Music by Jeani and the Dreamers
DESCRIPTION:Pre-game with Jeani and the Dreamers on this Super Bowl Sunday! They’ll be performing at Elmaro\, 1-4 p.m.
URL:https://elmarovineyard.com/event/music-by-jeani-and-the-dreamers-5/
ATTACH;FMTTYPE=image/jpeg:https://elmarovineyard.com/wp-content/uploads/2023/01/jeaniethe-dreamers.jpg
END:VEVENT
END:VCALENDAR