BEGIN:VCALENDAR
VERSION:2.0
PRODID:-//Elmaro Vineyard - ECPv6.15.20//NONSGML v1.0//EN
CALSCALE:GREGORIAN
METHOD:PUBLISH
X-WR-CALNAME:Elmaro Vineyard
X-ORIGINAL-URL:https://elmarovineyard.com
X-WR-CALDESC:Events for Elmaro Vineyard
REFRESH-INTERVAL;VALUE=DURATION:PT1H
X-Robots-Tag:noindex
X-PUBLISHED-TTL:PT1H
BEGIN:VTIMEZONE
TZID:UTC
BEGIN:STANDARD
TZOFFSETFROM:+0000
TZOFFSETTO:+0000
TZNAME:UTC
DTSTART:20220101T000000
END:STANDARD
END:VTIMEZONE
BEGIN:VEVENT
DTSTART;TZID=UTC:20230128T100000
DTEND;TZID=UTC:20230128T110000
DTSTAMP:20260422T011452
CREATED:20221215T204850Z
LAST-MODIFIED:20221220T174816Z
UID:3599-1674900000-1674903600@elmarovineyard.com
SUMMARY:Raptors at Elmaro!
DESCRIPTION:Calling all witches and wizards! Join River Valley Raptors at Elmaro Vineyard to discover the fiercest of the feathered creatures you may encounter on your journey into the world of magic. Learn of the “magical” powers of real-life raptors\, and catch a glimpse of the birds from our mystical menagerie! January 28th\, 10:00 a.m.\, $6/person\, kids 0-2 years are free\, call 608-534-6456 for required reservations.
URL:https://elmarovineyard.com/event/raptors-at-elmaro-2/
ATTACH;FMTTYPE=image/jpeg:https://elmarovineyard.com/wp-content/uploads/2022/12/owls.jpg
END:VEVENT
BEGIN:VEVENT
DTSTART;TZID=UTC:20230128T120000
DTEND;TZID=UTC:20230128T180000
DTSTAMP:20260422T011452
CREATED:20221215T211745Z
LAST-MODIFIED:20221215T211745Z
UID:3611-1674907200-1674928800@elmarovineyard.com
SUMMARY:Nachos and Sangria
DESCRIPTION:Homestead Red Sangria pairs perfectly with nachos\, especially when Jeani and the Dreamers are performing in the vineyard!
URL:https://elmarovineyard.com/event/nachos-and-sangria-2/
ATTACH;FMTTYPE=image/jpeg:https://elmarovineyard.com/wp-content/uploads/2022/12/IMG_9598-scaled.jpg
END:VEVENT
BEGIN:VEVENT
DTSTART;TZID=UTC:20230128T140000
DTEND;TZID=UTC:20230128T170000
DTSTAMP:20260422T011452
CREATED:20221215T205502Z
LAST-MODIFIED:20221215T205502Z
UID:3602-1674914400-1674925200@elmarovineyard.com
SUMMARY:Music by Right Side Up
DESCRIPTION:Right Side Up is an acoustic duo based in Winona\, Minnesota. From folk to rock\, Ward and Terry provide the rhythm to get your foot a tapping and your heart a beatin’.
URL:https://elmarovineyard.com/event/music-by-right-side-up-11/
END:VEVENT
END:VCALENDAR