BEGIN:VCALENDAR
VERSION:2.0
PRODID:-//Elmaro Vineyard - ECPv6.15.20//NONSGML v1.0//EN
CALSCALE:GREGORIAN
METHOD:PUBLISH
X-WR-CALNAME:Elmaro Vineyard
X-ORIGINAL-URL:https://elmarovineyard.com
X-WR-CALDESC:Events for Elmaro Vineyard
REFRESH-INTERVAL;VALUE=DURATION:PT1H
X-Robots-Tag:noindex
X-PUBLISHED-TTL:PT1H
BEGIN:VTIMEZONE
TZID:UTC
BEGIN:STANDARD
TZOFFSETFROM:+0000
TZOFFSETTO:+0000
TZNAME:UTC
DTSTART:20220101T000000
END:STANDARD
END:VTIMEZONE
BEGIN:VEVENT
DTSTART;TZID=UTC:20230127T190000
DTEND;TZID=UTC:20230127T203000
DTSTAMP:20260422T011445
CREATED:20221215T205843Z
LAST-MODIFIED:20230124T152410Z
UID:3604-1674846000-1674851400@elmarovineyard.com
SUMMARY:Sold Out\, Bingo Night at Elmaro!
DESCRIPTION:Bingo night at Elmaro Vineyard! Two complimentary bingo cards for each guest\, and assorted prizes! Reservations are made by calling 608-534-6456. Bingo will begin promptly at 7:00 p.m..
URL:https://elmarovineyard.com/event/bingo-night-at-elmaro-2/
ATTACH;FMTTYPE=image/jpeg:https://elmarovineyard.com/wp-content/uploads/2022/12/at-Elmaro-Vineyard-Friday-January-21st-700-845-p.m.-1-1.jpg
END:VEVENT
END:VCALENDAR