BEGIN:VCALENDAR
VERSION:2.0
PRODID:-//Elmaro Vineyard - ECPv6.15.20//NONSGML v1.0//EN
CALSCALE:GREGORIAN
METHOD:PUBLISH
X-ORIGINAL-URL:https://elmarovineyard.com
X-WR-CALDESC:Events for Elmaro Vineyard
REFRESH-INTERVAL;VALUE=DURATION:PT1H
X-Robots-Tag:noindex
X-PUBLISHED-TTL:PT1H
BEGIN:VTIMEZONE
TZID:UTC
BEGIN:STANDARD
TZOFFSETFROM:+0000
TZOFFSETTO:+0000
TZNAME:UTC
DTSTART:20220101T000000
END:STANDARD
END:VTIMEZONE
BEGIN:VEVENT
DTSTART;TZID=UTC:20230121T100000
DTEND;TZID=UTC:20230121T110000
DTSTAMP:20260424T085209
CREATED:20221213T191958Z
LAST-MODIFIED:20221213T191958Z
UID:3582-1674295200-1674298800@elmarovineyard.com
SUMMARY:Yoga and Brunch
DESCRIPTION:Join Laura (co-owner and winemaker) for a relaxing hour of vinyasa flow yoga practice\, followed by a continental brunch and a mimosa. $23/person\, and reservations can be made by calling 608-534-6456.
URL:https://elmarovineyard.com/event/yoga-and-brunch-3/
ATTACH;FMTTYPE=image/jpeg:https://elmarovineyard.com/wp-content/uploads/2022/12/eIMG_5065-crop-adj-1-899x396-1.jpg
END:VEVENT
BEGIN:VEVENT
DTSTART;TZID=UTC:20230121T140000
DTEND;TZID=UTC:20230121T170000
DTSTAMP:20260424T085209
CREATED:20221220T175118Z
LAST-MODIFIED:20221220T175118Z
UID:3639-1674309600-1674320400@elmarovineyard.com
SUMMARY:Music by Doug Mahlum
DESCRIPTION:Warm yourself to the tunes of Doug Mahlum\, 2-5 p.m.
URL:https://elmarovineyard.com/event/music-by-doug-mahlum-4/
ATTACH;FMTTYPE=image/jpeg:https://elmarovineyard.com/wp-content/uploads/2022/12/Doug-Mahlum3.jpg
END:VEVENT
END:VCALENDAR