BEGIN:VCALENDAR
VERSION:2.0
PRODID:-//Elmaro Vineyard - ECPv6.15.20//NONSGML v1.0//EN
CALSCALE:GREGORIAN
METHOD:PUBLISH
X-WR-CALNAME:Elmaro Vineyard
X-ORIGINAL-URL:https://elmarovineyard.com
X-WR-CALDESC:Events for Elmaro Vineyard
REFRESH-INTERVAL;VALUE=DURATION:PT1H
X-Robots-Tag:noindex
X-PUBLISHED-TTL:PT1H
BEGIN:VTIMEZONE
TZID:UTC
BEGIN:STANDARD
TZOFFSETFROM:+0000
TZOFFSETTO:+0000
TZNAME:UTC
DTSTART:20220101T000000
END:STANDARD
END:VTIMEZONE
BEGIN:VEVENT
DTSTART;TZID=UTC:20230120T120000
DTEND;TZID=UTC:20230120T190000
DTSTAMP:20260422T011453
CREATED:20221220T185006Z
LAST-MODIFIED:20230120T053815Z
UID:3645-1674216000-1674241200@elmarovineyard.com
SUMMARY:National Cheese Lover's Day!
DESCRIPTION:Celebrate all things cheesy today!  It’s National Cheese Day\, and Elmaro has $1 off all cheese plates\, 12-7 p.m.
URL:https://elmarovineyard.com/event/national-cheese-lovers-day/
ATTACH;FMTTYPE=image/jpeg:https://elmarovineyard.com/wp-content/uploads/2022/12/salami-artisan-scaled-1.jpg
END:VEVENT
BEGIN:VEVENT
DTSTART;TZID=UTC:20230120T190000
DTEND;TZID=UTC:20230120T210000
DTSTAMP:20260422T011453
CREATED:20221206T180724Z
LAST-MODIFIED:20230120T053916Z
UID:3554-1674241200-1674248400@elmarovineyard.com
SUMMARY:Sip and Paint with Lori Ehlke
DESCRIPTION:Sip and Paint at Elmaro! Lori Ehlke will lead this sip and paint class class on Friday\, January 20th at 7 p.m. All supplies are provided\, and one glass of wine is included. $35+tax/person\, call 608-534-6456 for required reservations.\nOR\, reserve your spot at our 3 upcoming painting classes for $95! January 20th\, February 9th\, and March 24.
URL:https://elmarovineyard.com/event/sip-and-paint-with-lori-ehlke-2/
ATTACH;FMTTYPE=image/jpeg:https://elmarovineyard.com/wp-content/uploads/2022/12/January-2023-1626x2048-1.jpg
END:VEVENT
END:VCALENDAR