BEGIN:VCALENDAR
VERSION:2.0
PRODID:-//Elmaro Vineyard - ECPv6.15.20//NONSGML v1.0//EN
CALSCALE:GREGORIAN
METHOD:PUBLISH
X-WR-CALNAME:Elmaro Vineyard
X-ORIGINAL-URL:https://elmarovineyard.com
X-WR-CALDESC:Events for Elmaro Vineyard
REFRESH-INTERVAL;VALUE=DURATION:PT1H
X-Robots-Tag:noindex
X-PUBLISHED-TTL:PT1H
BEGIN:VTIMEZONE
TZID:UTC
BEGIN:STANDARD
TZOFFSETFROM:+0000
TZOFFSETTO:+0000
TZNAME:UTC
DTSTART:20220101T000000
END:STANDARD
END:VTIMEZONE
BEGIN:VEVENT
DTSTART;TZID=UTC:20230101T120000
DTEND;TZID=UTC:20230101T170000
DTSTAMP:20260422T011343
CREATED:20221215T210734Z
LAST-MODIFIED:20230120T052912Z
UID:3608-1672574400-1672592400@elmarovineyard.com
SUMMARY:Closed January 1st
DESCRIPTION:Elmaro Vineyard will be closed on Sunday\, January 1st\, so we can celebrate the New Year with friends and family.  We will re-open on Thursday\, January 5th at noon.  Thank you!
URL:https://elmarovineyard.com/event/closed-january-1st/
ATTACH;FMTTYPE=image/jpeg:https://elmarovineyard.com/wp-content/uploads/2022/12/Elmaro-Vineyard-will-be-closed-Sunday-January-1st-2023-1.jpg
END:VEVENT
END:VCALENDAR