BEGIN:VCALENDAR
VERSION:2.0
PRODID:-//Elmaro Vineyard - ECPv6.15.20//NONSGML v1.0//EN
CALSCALE:GREGORIAN
METHOD:PUBLISH
X-WR-CALNAME:Elmaro Vineyard
X-ORIGINAL-URL:https://elmarovineyard.com
X-WR-CALDESC:Events for Elmaro Vineyard
REFRESH-INTERVAL;VALUE=DURATION:PT1H
X-Robots-Tag:noindex
X-PUBLISHED-TTL:PT1H
BEGIN:VTIMEZONE
TZID:UTC
BEGIN:STANDARD
TZOFFSETFROM:+0000
TZOFFSETTO:+0000
TZNAME:UTC
DTSTART:20210101T000000
END:STANDARD
END:VTIMEZONE
BEGIN:VEVENT
DTSTART;TZID=UTC:20221225T120000
DTEND;TZID=UTC:20221225T170000
DTSTAMP:20260421T125207
CREATED:20221108T190947Z
LAST-MODIFIED:20221108T190947Z
UID:3443-1671969600-1671987600@elmarovineyard.com
SUMMARY:Closed for Christmas
DESCRIPTION:Elmaro Vineyard is closed on Sunday\, December 25th\, so we can spend time with our families and friends on Christmas. We will open again on Tuesday\, December 27th at noon.
URL:https://elmarovineyard.com/event/closed-for-christmas-2/
ATTACH;FMTTYPE=image/jpeg:https://elmarovineyard.com/wp-content/uploads/2022/11/closedchristmas.jpg
END:VEVENT
END:VCALENDAR